BEGIN:VCALENDAR
PRODID:-//AT Content Types//AT Event//EN
VERSION:1.0
BEGIN:VEVENT
DTSTART:20230508T140000Z
DTEND:20230508T153000Z
DCREATED:20221205T133218Z
UID:ATEvent-07fbfac6808945819c12ddbd3f45ab40
SEQUENCE:0
LAST-MODIFIED:20221205T133218Z
SUMMARY:MTH-ODS (at SISSA)
LOCATION:Lecture Room D
PRIORITY:3
TRANSP:0
END:VEVENT
END:VCALENDAR
