BEGIN:VCALENDAR
PRODID:-//AT Content Types//AT Event//EN
VERSION:1.0
BEGIN:VEVENT
DTSTART:20230327T140000Z
DTEND:20230327T153000Z
DCREATED:20221205T133217Z
UID:ATEvent-85712b8967ab4b3e9b6a5ffd7bf1035e
SEQUENCE:0
LAST-MODIFIED:20221205T133217Z
SUMMARY:MTH-ODS (at SISSA)
LOCATION:Lecture Room D
PRIORITY:3
TRANSP:0
END:VEVENT
END:VCALENDAR
