BEGIN:VCALENDAR
PRODID:-//AT Content Types//AT Event//EN
VERSION:1.0
BEGIN:VEVENT
DTSTART:20230314T100000Z
DTEND:20230314T113000Z
DCREATED:20221122T101443Z
UID:ATEvent-1d79971bba324d218dcc0e1cd54e5a69
SEQUENCE:0
LAST-MODIFIED:20221122T101443Z
SUMMARY:MTH-FA
LOCATION:Lecture Room D
PRIORITY:3
TRANSP:0
END:VEVENT
END:VCALENDAR
