BEGIN:VCALENDAR
PRODID:-//AT Content Types//AT Event//EN
VERSION:2.0
METHOD:PUBLISH
BEGIN:VEVENT
DTSTAMP:20260423T235215Z
CREATED:20221122T101443Z
UID:ATEvent-e53b90fb90c04cbfa1d9b23c64b9f0e0
LAST-MODIFIED:20221122T101443Z
SUMMARY:MTH-FA
DTSTART:20230309T100000Z
DTEND:20230309T113000Z
LOCATION:Lecture Room D
CONTACT:E. Carneiro
URL:https://diploma-clear.ictp.it/courses/weekly-schedule/lecture-room-d/lecture.2022-11-22.0834404521
CLASS:PUBLIC
END:VEVENT
END:VCALENDAR
