BEGIN:VCALENDAR
PRODID:-//AT Content Types//AT Event//EN
VERSION:1.0
BEGIN:VEVENT
DTSTART:20230117T100000Z
DTEND:20230117T113000Z
DCREATED:20221122T101440Z
UID:ATEvent-007fd02127aa40e2aaa9d20ea6166703
SEQUENCE:0
LAST-MODIFIED:20221122T101440Z
SUMMARY:MTH-FA
LOCATION:Lecture Room D
PRIORITY:3
TRANSP:0
END:VEVENT
END:VCALENDAR
