BEGIN:VCALENDAR
PRODID:-//AT Content Types//AT Event//EN
VERSION:1.0
BEGIN:VEVENT
DTSTART:20221215T100000Z
DTEND:20221215T113000Z
DCREATED:20220906T153424Z
UID:ATEvent-612aa9ac7ae44bc6843cbe3488246c2c
SEQUENCE:0
LAST-MODIFIED:20220906T153424Z
SUMMARY:MTH-ALG tut.
LOCATION:Lecture Room D
PRIORITY:3
TRANSP:0
END:VEVENT
END:VCALENDAR
