BEGIN:VCALENDAR
PRODID:-//AT Content Types//AT Event//EN
VERSION:2.0
METHOD:PUBLISH
BEGIN:VEVENT
DTSTAMP:20260421T014029Z
CREATED:20220729T102910Z
UID:ATEvent-4cca8c2d0e8f4f47a98678df4e1f8357
LAST-MODIFIED:20220829T145155Z
SUMMARY:MTH-TOP
DTSTART:20221116T150000Z
DTEND:20221116T163000Z
LOCATION:Lecture Room D
CONTACT:D. Zuddas
URL:https://diploma-clear.ictp.it/courses/weekly-schedule/lecture-room-d/lecture.2022-07-29.5506472559
CLASS:PUBLIC
END:VEVENT
END:VCALENDAR
