BEGIN:VCALENDAR
PRODID:-//AT Content Types//AT Event//EN
VERSION:1.0
BEGIN:VEVENT
DTSTART:20221019T070000Z
DTEND:20221019T083000Z
DCREATED:20220725T100718Z
UID:ATEvent-e86be225991645a3a086975b29a29364
SEQUENCE:0
LAST-MODIFIED:20220725T100718Z
SUMMARY:MTH-CA
LOCATION:Lecture Room D
PRIORITY:3
TRANSP:0
END:VEVENT
END:VCALENDAR
