BEGIN:VCALENDAR
PRODID:-//AT Content Types//AT Event//EN
VERSION:2.0
METHOD:PUBLISH
BEGIN:VEVENT
DTSTAMP:20260420T155415Z
CREATED:20220721T093405Z
UID:ATEvent-391f6756d9e646cb968a30a0855b4a40
LAST-MODIFIED:20220922T134013Z
SUMMARY:MTH-RA
DTSTART:20220926T090000Z
DTEND:20220926T103000Z
LOCATION:Lecture Room D
CONTACT:S. Bianchini
URL:https://diploma-clear.ictp.it/courses/weekly-schedule/lecture-room-d/lecture.2022-07-21.0451501579
CLASS:PUBLIC
END:VEVENT
END:VCALENDAR
