BEGIN:VCALENDAR
PRODID:-//AT Content Types//AT Event//EN
VERSION:1.0
BEGIN:VEVENT
DTSTART:20220309T080000Z
DTEND:20220309T093000Z
DCREATED:20220224T154115Z
UID:ATEvent-2535487947c64105b799670ca9ed2c8f
SEQUENCE:0
LAST-MODIFIED:20220224T154315Z
SUMMARY:MTH-DG
LOCATION:Lecture Room D
PRIORITY:3
TRANSP:0
END:VEVENT
END:VCALENDAR
