BEGIN:VCALENDAR
PRODID:-//AT Content Types//AT Event//EN
VERSION:1.0
BEGIN:VEVENT
DTSTART:20220408T070000Z
DTEND:20220408T083000Z
DCREATED:20211223T115047Z
UID:ATEvent-15fc77f8562f446c8d59faff1f81b237
SEQUENCE:0
LAST-MODIFIED:20211223T115110Z
SUMMARY:MTH-PDE
LOCATION:Lecture Room D
PRIORITY:3
TRANSP:0
END:VEVENT
END:VCALENDAR
