BEGIN:VCALENDAR
PRODID:-//AT Content Types//AT Event//EN
VERSION:2.0
METHOD:PUBLISH
BEGIN:VEVENT
DTSTAMP:20260419T203524Z
CREATED:20211201T113252Z
UID:ATEvent-20693f2740db46b2a3f569efe06360dc
LAST-MODIFIED:20211201T113252Z
SUMMARY:MTH-DG
DTSTART:20220328T070000Z
DTEND:20220328T083000Z
LOCATION:Lecture Room D
CONTACT:C. Arezzo
URL:https://diploma-clear.ictp.it/courses/weekly-schedule/lecture-room-d/lecture.2021-12-01.3720330190
CLASS:PUBLIC
END:VEVENT
END:VCALENDAR
