BEGIN:VCALENDAR
PRODID:-//AT Content Types//AT Event//EN
VERSION:1.0
BEGIN:VEVENT
DTSTART:20211026T120000Z
DTEND:20211026T133000Z
DCREATED:20211013T121911Z
UID:ATEvent-7e725d5653324f2fb6629a04da88cee6
SEQUENCE:0
LAST-MODIFIED:20211013T121954Z
SUMMARY:MTH-RA
LOCATION:Lecture Room D
PRIORITY:3
TRANSP:0
END:VEVENT
END:VCALENDAR
