BEGIN:VCALENDAR
PRODID:-//AT Content Types//AT Event//EN
VERSION:2.0
METHOD:PUBLISH
BEGIN:VEVENT
DTSTAMP:20260419T171724Z
CREATED:20210908T120629Z
UID:ATEvent-5cc73865de6041d99848be606e3b87d7
LAST-MODIFIED:20210908T120629Z
SUMMARY:MTH-RA tut.
DTSTART:20211011T070000Z
DTEND:20211011T083000Z
LOCATION:Lecture Room D
CONTACT:C. Gonzalez Riquelme
URL:https://diploma-clear.ictp.it/courses/weekly-schedule/lecture-room-d/lecture.2021-09-08.7890298790
CLASS:PUBLIC
END:VEVENT
END:VCALENDAR
