BEGIN:VCALENDAR
PRODID:-//AT Content Types//AT Event//EN
VERSION:2.0
METHOD:PUBLISH
BEGIN:VEVENT
DTSTAMP:20260423T200022Z
CREATED:20210907T111531Z
UID:ATEvent-3d80802d677f497ea655d4ce75e32a09
LAST-MODIFIED:20210907T111531Z
SUMMARY:MTH-TOP
DTSTART:20210929T140000Z
DTEND:20210929T153000Z
LOCATION:Lecture Room D
CONTACT:D. Zuddas
URL:https://diploma-clear.ictp.it/courses/weekly-schedule/lecture-room-d/lecture.2021-09-07.3318481575
CLASS:PUBLIC
END:VEVENT
END:VCALENDAR
