BEGIN:VCALENDAR
PRODID:-//AT Content Types//AT Event//EN
VERSION:1.0
BEGIN:VEVENT
DTSTART:20211005T140000Z
DTEND:20211005T153000Z
DCREATED:20210810T100305Z
UID:ATEvent-dad2e06fa4b54c9e8087e99b91d201e8
SEQUENCE:0
LAST-MODIFIED:20210907T103319Z
SUMMARY:MTH-ALG
LOCATION:Lecture Room D
PRIORITY:3
TRANSP:0
END:VEVENT
END:VCALENDAR
