BEGIN:VCALENDAR
PRODID:-//AT Content Types//AT Event//EN
VERSION:2.0
METHOD:PUBLISH
BEGIN:VEVENT
DTSTAMP:20260421T014042Z
CREATED:20201216T140442Z
UID:ATEvent-8493553d7e654178a24a8bbce24129cb
LAST-MODIFIED:20201216T140442Z
SUMMARY:CMP-BIO
DTSTART:20210413T070000Z
DTEND:20210413T083000Z
LOCATION:Lecture Room D
CONTACT:A. Hassanali
URL:https://diploma-clear.ictp.it/courses/weekly-schedule/lecture-room-d/lecture.2020-12-16.4826172285
CLASS:PUBLIC
END:VEVENT
END:VCALENDAR
