BEGIN:VCALENDAR
PRODID:-//AT Content Types//AT Event//EN
VERSION:2.0
METHOD:PUBLISH
BEGIN:VEVENT
DTSTAMP:20260423T004705Z
CREATED:20201215T202705Z
UID:ATEvent-d696e6d4b7924f839e149f769e4b15c2
LAST-MODIFIED:20201215T202705Z
SUMMARY:CMP-NUM II
DTSTART:20210317T130000Z
DTEND:20210317T143000Z
LOCATION:Lecture Room D
CONTACT:M. Dalmonte
URL:https://diploma-clear.ictp.it/courses/weekly-schedule/lecture-room-d/lecture.2020-12-15.0257844448
CLASS:PUBLIC
END:VEVENT
END:VCALENDAR
