BEGIN:VCALENDAR
PRODID:-//AT Content Types//AT Event//EN
VERSION:2.0
METHOD:PUBLISH
BEGIN:VEVENT
DTSTAMP:20260421T110144Z
CREATED:20201209T070538Z
UID:ATEvent-8851cc3393364efca355b9b2c2cadbdb
LAST-MODIFIED:20201209T070538Z
SUMMARY:CMP-MBT
DTSTART:20210312T100000Z
DTEND:20210312T113000Z
LOCATION:Lecture Room D
CONTACT:M. Kiselev
URL:https://diploma-clear.ictp.it/courses/weekly-schedule/lecture-room-d/lecture.2020-12-09.5388435433
CLASS:PUBLIC
END:VEVENT
END:VCALENDAR
