BEGIN:VCALENDAR
PRODID:-//AT Content Types//AT Event//EN
VERSION:1.0
BEGIN:VEVENT
DTSTART:20210305T100000Z
DTEND:20210305T113000Z
DCREATED:20201209T070538Z
UID:ATEvent-68f573518db94ce8ad82e31b9a692465
SEQUENCE:0
LAST-MODIFIED:20201209T070538Z
SUMMARY:CMP-MBT
LOCATION:Lecture Room D
PRIORITY:3
TRANSP:0
END:VEVENT
END:VCALENDAR
