BEGIN:VCALENDAR
PRODID:-//AT Content Types//AT Event//EN
VERSION:2.0
METHOD:PUBLISH
BEGIN:VEVENT
DTSTAMP:20260425T200931Z
CREATED:20201015T151139Z
UID:ATEvent-1da71e280e354c8eb72e35891a85d137
LAST-MODIFIED:20201015T151139Z
SUMMARY:CMP-AQM tut.
DTSTART:20201105T150000Z
DTEND:20201105T163000Z
LOCATION:Lecture Room D
CONTACT:A. Pavlov
URL:https://diploma-clear.ictp.it/courses/weekly-schedule/lecture-room-d/lecture.2020-10-15.6994784976
CLASS:PUBLIC
END:VEVENT
END:VCALENDAR
