BEGIN:VCALENDAR
PRODID:-//AT Content Types//AT Event//EN
VERSION:1.0
BEGIN:VEVENT
DTSTART:20201130T100000Z
DTEND:20201130T113000Z
DCREATED:20200929T133121Z
UID:ATEvent-57058b760b4a485cbffcf2ce70fa28d1
SEQUENCE:0
LAST-MODIFIED:20201130T150246Z
SUMMARY:CMP-AQM
LOCATION:Lecture Room D
PRIORITY:3
TRANSP:0
END:VEVENT
END:VCALENDAR
