BEGIN:VCALENDAR
PRODID:-//AT Content Types//AT Event//EN
VERSION:1.0
BEGIN:VEVENT
DTSTART:20201120T130000Z
DTEND:20201120T143000Z
DCREATED:20200909T125734Z
UID:ATEvent-75556b5cc0dd48b7bdd0ac6186a44c11
SEQUENCE:0
LAST-MODIFIED:20200909T125734Z
SUMMARY:CMP-ST
LOCATION:Lecture Room D
PRIORITY:3
TRANSP:0
END:VEVENT
END:VCALENDAR
