BEGIN:VCALENDAR
PRODID:-//AT Content Types//AT Event//EN
VERSION:2.0
METHOD:PUBLISH
BEGIN:VEVENT
DTSTAMP:20260420T041050Z
CREATED:20200909T125733Z
UID:ATEvent-c004804a8ab74cd98efe8f8267770990
LAST-MODIFIED:20200909T125733Z
SUMMARY:CMP-ST
DTSTART:20201009T120000Z
DTEND:20201009T133000Z
LOCATION:Lecture Room D
CONTACT:N. Seriani\, S. Ghosh
URL:https://diploma-clear.ictp.it/courses/weekly-schedule/lecture-room-d/lecture.2020-09-09.2538309448
CLASS:PUBLIC
END:VEVENT
END:VCALENDAR
