BEGIN:VCALENDAR
PRODID:-//AT Content Types//AT Event//EN
VERSION:1.0
BEGIN:VEVENT
DTSTART:20201001T120000Z
DTEND:20201001T133000Z
DCREATED:20200803T121237Z
UID:ATEvent-f67403be36c64418b4923ebde6965ec1
SEQUENCE:0
LAST-MODIFIED:20200803T121237Z
SUMMARY:CMP-MT
LOCATION:Lecture Room D
PRIORITY:3
TRANSP:0
END:VEVENT
END:VCALENDAR
