BEGIN:VCALENDAR
PRODID:-//AT Content Types//AT Event//EN
VERSION:2.0
METHOD:PUBLISH
BEGIN:VEVENT
DTSTAMP:20260420T202638Z
CREATED:20200803T121237Z
UID:ATEvent-8cfccf9cf2be4e9d895adfc153134372
LAST-MODIFIED:20200803T121237Z
SUMMARY:CMP-MT
DTSTART:20200930T120000Z
DTEND:20200930T133000Z
LOCATION:Lecture Room D
CONTACT:M. Sellitto
URL:https://diploma-clear.ictp.it/courses/weekly-schedule/lecture-room-d/lecture.2020-08-03.7573501164
CLASS:PUBLIC
END:VEVENT
END:VCALENDAR
