BEGIN:VCALENDAR
PRODID:-//AT Content Types//AT Event//EN
VERSION:1.0
BEGIN:VEVENT
DTSTART:20201012T090000Z
DTEND:20201012T103000Z
DCREATED:20200803T121836Z
UID:ATEvent-209099cee4b04aaa8762b30e279ff00f
SEQUENCE:0
LAST-MODIFIED:20200803T121837Z
SUMMARY:CMP-AQM
LOCATION:Lecture Room D
PRIORITY:3
TRANSP:0
END:VEVENT
END:VCALENDAR
