BEGIN:VCALENDAR
PRODID:-//AT Content Types//AT Event//EN
VERSION:2.0
METHOD:PUBLISH
BEGIN:VEVENT
DTSTAMP:20260420T170346Z
CREATED:20200506T102440Z
UID:ATEvent-f385b491c26a4e7db8c8f979008985ad
LAST-MODIFIED:20200509T145153Z
SUMMARY:MTH-AG
DTSTART:20200514T140000Z
DTEND:20200514T153000Z
LOCATION:Lecture Room D
CONTACT:L. Göttsche
URL:https://diploma-clear.ictp.it/courses/weekly-schedule/lecture-room-d/lecture.2020-05-06.6804718717
CLASS:PUBLIC
END:VEVENT
END:VCALENDAR
