BEGIN:VCALENDAR
PRODID:-//AT Content Types//AT Event//EN
VERSION:2.0
METHOD:PUBLISH
BEGIN:VEVENT
DTSTAMP:20260420T190529Z
CREATED:20200308T081401Z
UID:ATEvent-e40f2f0969d541e493c410c43b4953f6
LAST-MODIFIED:20200308T081401Z
SUMMARY:MTH-RT
DTSTART:20200402T070000Z
DTEND:20200402T083000Z
LOCATION:Lecture Room D
CONTACT:F. Villegas
URL:https://diploma-clear.ictp.it/courses/weekly-schedule/lecture-room-d/lecture.2020-03-08.2414126170
CLASS:PUBLIC
END:VEVENT
END:VCALENDAR
