BEGIN:VCALENDAR
PRODID:-//AT Content Types//AT Event//EN
VERSION:2.0
METHOD:PUBLISH
BEGIN:VEVENT
DTSTAMP:20260419T203427Z
CREATED:20191211T094348Z
UID:ATEvent-04276ac9b179458c948236562822c969
LAST-MODIFIED:20191211T094348Z
SUMMARY:MTH-AG
DTSTART:20200401T140000Z
DTEND:20200401T153000Z
LOCATION:Lecture Room D
CONTACT:L. Göttsche
URL:https://diploma-clear.ictp.it/courses/weekly-schedule/lecture-room-d/lecture.2019-12-11.4282095447
CLASS:PUBLIC
END:VEVENT
END:VCALENDAR
