BEGIN:VCALENDAR
PRODID:-//AT Content Types//AT Event//EN
VERSION:2.0
METHOD:PUBLISH
BEGIN:VEVENT
DTSTAMP:20260419T203522Z
CREATED:20191211T094049Z
UID:ATEvent-a8259e90ef95409eacbb02f580083f24
LAST-MODIFIED:20191211T094119Z
SUMMARY:MTH-AG
DTSTART:20200219T150000Z
DTEND:20200219T163000Z
LOCATION:Lecture Room D
CONTACT:L. Göttsche
URL:https://diploma-clear.ictp.it/courses/weekly-schedule/lecture-room-d/lecture.2019-12-11.2494616557
CLASS:PUBLIC
END:VEVENT
END:VCALENDAR
