BEGIN:VCALENDAR
PRODID:-//AT Content Types//AT Event//EN
VERSION:1.0
BEGIN:VEVENT
DTSTART:20200212T150000Z
DTEND:20200212T163000Z
DCREATED:20191209T105646Z
UID:ATEvent-f4ab33ff2dfe494bae7525385d6c617f
SEQUENCE:0
LAST-MODIFIED:20191209T105646Z
SUMMARY:MTH-ALT
LOCATION:Lecture Room D
PRIORITY:3
TRANSP:0
END:VEVENT
END:VCALENDAR
