BEGIN:VCALENDAR
PRODID:-//AT Content Types//AT Event//EN
VERSION:2.0
METHOD:PUBLISH
BEGIN:VEVENT
DTSTAMP:20260420T141515Z
CREATED:20191206T142803Z
UID:ATEvent-6d4ebbe6ae4145f39921ce56bcad1b75
LAST-MODIFIED:20191206T142803Z
SUMMARY:MTH-FA
DTSTART:20200128T130000Z
DTEND:20200128T143000Z
LOCATION:Lecture Room D
CONTACT:E. Carneiro
URL:https://diploma-clear.ictp.it/courses/weekly-schedule/lecture-room-d/lecture.2019-12-06.4836218525
CLASS:PUBLIC
END:VEVENT
END:VCALENDAR
