BEGIN:VCALENDAR
PRODID:-//AT Content Types//AT Event//EN
VERSION:1.0
BEGIN:VEVENT
DTSTART:20200318T100000Z
DTEND:20200318T113000Z
DCREATED:20191115T104207Z
UID:ATEvent-35f7a441d9fd4eea99fda5eedd29c9cc
SEQUENCE:0
LAST-MODIFIED:20191115T104208Z
SUMMARY:CMP-ES
LOCATION:Lecture Room D
PRIORITY:3
TRANSP:0
END:VEVENT
END:VCALENDAR
