BEGIN:VCALENDAR
PRODID:-//AT Content Types//AT Event//EN
VERSION:1.0
BEGIN:VEVENT
DTSTART:20200107T100000Z
DTEND:20200107T113000Z
DCREATED:20191003T083257Z
UID:ATEvent-1d5338807bd240058764ceddee32727c
SEQUENCE:0
LAST-MODIFIED:20191003T083325Z
SUMMARY:EXAM
LOCATION:Lecture Room D
PRIORITY:3
TRANSP:0
END:VEVENT
END:VCALENDAR
