BEGIN:VCALENDAR
PRODID:-//AT Content Types//AT Event//EN
VERSION:1.0
BEGIN:VEVENT
DTSTART:20191021T090000Z
DTEND:20191021T103000Z
DCREATED:20190805T090454Z
UID:ATEvent-a7d691ed02804fcda53c1a733da5dae2
SEQUENCE:0
LAST-MODIFIED:20190805T090454Z
SUMMARY:CMP-AQM
LOCATION:Lecture Room D
PRIORITY:3
TRANSP:0
END:VEVENT
END:VCALENDAR
