BEGIN:VCALENDAR
PRODID:-//AT Content Types//AT Event//EN
VERSION:2.0
METHOD:PUBLISH
BEGIN:VEVENT
DTSTAMP:20260419T203533Z
CREATED:20190805T091009Z
UID:ATEvent-56611b5d51e543f28179a9a76779f289
LAST-MODIFIED:20190805T091009Z
SUMMARY:CMP-AQM
DTSTART:20191209T100000Z
DTEND:20191209T113000Z
LOCATION:Lecture Room D
CONTACT:R. Fazio
URL:https://diploma-clear.ictp.it/courses/weekly-schedule/lecture-room-d/lecture.2019-08-05.2090461550
CLASS:PUBLIC
END:VEVENT
END:VCALENDAR
