BEGIN:VCALENDAR
PRODID:-//AT Content Types//AT Event//EN
VERSION:2.0
METHOD:PUBLISH
BEGIN:VEVENT
DTSTAMP:20260421T105308Z
CREATED:20190805T091006Z
UID:ATEvent-2a78bdf7518845d7ad33a27d7abef2db
LAST-MODIFIED:20190805T091007Z
SUMMARY:CMP-AQM
DTSTART:20191105T100000Z
DTEND:20191105T113000Z
LOCATION:Lecture Room D
CONTACT:R. Fazio
URL:https://diploma-clear.ictp.it/courses/weekly-schedule/lecture-room-d/lecture.2019-08-05.2069434898
CLASS:PUBLIC
END:VEVENT
END:VCALENDAR
