BEGIN:VCALENDAR
PRODID:-//AT Content Types//AT Event//EN
VERSION:2.0
METHOD:PUBLISH
BEGIN:VEVENT
DTSTAMP:20260419T203600Z
CREATED:20190724T142043Z
UID:ATEvent-dda42eb3f404478eb0371933a6564125
LAST-MODIFIED:20190724T142043Z
SUMMARY:MTH-CA
DTSTART:20191004T070000Z
DTEND:20191004T083000Z
LOCATION:Lecture Room D
CONTACT:Z. Sjöström Dyrefelt
URL:https://diploma-clear.ictp.it/courses/weekly-schedule/lecture-room-d/lecture.2019-07-24.0434915774
CLASS:PUBLIC
END:VEVENT
END:VCALENDAR
