BEGIN:VCALENDAR
PRODID:-//AT Content Types//AT Event//EN
VERSION:2.0
METHOD:PUBLISH
BEGIN:VEVENT
DTSTAMP:20260421T041507Z
CREATED:20181214T091622Z
UID:ATEvent-4ec2e89add8a4d0cbc73efa96713cf3a
LAST-MODIFIED:20181214T091623Z
SUMMARY:CMP-BIO
DTSTART:20190409T090000Z
DTEND:20190409T103000Z
LOCATION:Lecture Room D
CONTACT:A. Hassanali
URL:https://diploma-clear.ictp.it/courses/weekly-schedule/lecture-room-d/lecture.2018-12-14.9828763798
CLASS:PUBLIC
END:VEVENT
END:VCALENDAR
