BEGIN:VCALENDAR
PRODID:-//AT Content Types//AT Event//EN
VERSION:2.0
METHOD:PUBLISH
BEGIN:VEVENT
DTSTAMP:20260421T213532Z
CREATED:20181121T134857Z
UID:ATEvent-3bf0d040d3a34cb6bd1b8b7da5df973f
LAST-MODIFIED:20181121T134857Z
SUMMARY:CMP-PT
DTSTART:20190128T100000Z
DTEND:20190128T113000Z
LOCATION:Lecture Room D
CONTACT:A. Nersesyan
URL:https://diploma-clear.ictp.it/courses/weekly-schedule/lecture-room-d/lecture.2018-11-21.1371995786
CLASS:PUBLIC
END:VEVENT
END:VCALENDAR
