BEGIN:VCALENDAR
PRODID:-//AT Content Types//AT Event//EN
VERSION:1.0
BEGIN:VEVENT
DTSTART:20181211T130000Z
DTEND:20181211T143000Z
DCREATED:20181016T105948Z
UID:ATEvent-9a28543a07e8410ebab94157ca96c45d
SEQUENCE:0
LAST-MODIFIED:20181016T110007Z
SUMMARY:CMP-AQM
LOCATION:Lecture Room D
PRIORITY:3
TRANSP:0
END:VEVENT
END:VCALENDAR
