BEGIN:VCALENDAR
PRODID:-//AT Content Types//AT Event//EN
VERSION:1.0
BEGIN:VEVENT
DTSTART:20181210T130000Z
DTEND:20181210T143000Z
DCREATED:20181016T105925Z
UID:ATEvent-0436b9bb8b964d2c936b5e184b38301b
SEQUENCE:0
LAST-MODIFIED:20181016T105944Z
SUMMARY:CMP-AQM
LOCATION:Lecture Room D
PRIORITY:3
TRANSP:0
END:VEVENT
END:VCALENDAR
