BEGIN:VCALENDAR
PRODID:-//AT Content Types//AT Event//EN
VERSION:2.0
METHOD:PUBLISH
BEGIN:VEVENT
DTSTAMP:20260421T054936Z
CREATED:20181011T095030Z
UID:ATEvent-c49336a8cf0c462899c0bd973c0f1116
LAST-MODIFIED:20181011T095030Z
SUMMARY:CMP-SM tut.
DTSTART:20181113T150000Z
DTEND:20181113T163000Z
LOCATION:Lecture Room D
CONTACT:A. Russomanno
URL:https://diploma-clear.ictp.it/courses/weekly-schedule/lecture-room-d/lecture.2018-10-11.4306549125
CLASS:PUBLIC
END:VEVENT
END:VCALENDAR
