BEGIN:VCALENDAR
PRODID:-//AT Content Types//AT Event//EN
VERSION:1.0
BEGIN:VEVENT
DTSTART:20181030T130000Z
DTEND:20181030T143000Z
DCREATED:20181011T095026Z
UID:ATEvent-b2ab09c1f4214182a271dae53e6fec3a
SEQUENCE:0
LAST-MODIFIED:20181025T124600Z
SUMMARY:CMP-SM tut.
LOCATION:Lecture Room D
PRIORITY:3
TRANSP:0
END:VEVENT
END:VCALENDAR
