BEGIN:VCALENDAR
PRODID:-//AT Content Types//AT Event//EN
VERSION:2.0
METHOD:PUBLISH
BEGIN:VEVENT
DTSTAMP:20260421T061507Z
CREATED:20180802T134953Z
UID:ATEvent-546f349965454caba849c272f566f8fa
LAST-MODIFIED:20180802T135216Z
SUMMARY:CMP-SM
DTSTART:20181203T100000Z
DTEND:20181203T113000Z
LOCATION:Lecture Room D
CONTACT:A. Silva
URL:https://diploma-clear.ictp.it/courses/weekly-schedule/lecture-room-d/lecture.2018-08-02.7929818450
CLASS:PUBLIC
END:VEVENT
END:VCALENDAR
