BEGIN:VCALENDAR
PRODID:-//AT Content Types//AT Event//EN
VERSION:1.0
BEGIN:VEVENT
DTSTART:20181102T100000Z
DTEND:20181102T113000Z
DCREATED:20180802T134951Z
UID:ATEvent-f6572edae4a9436dbfc4fa991ae84827
SEQUENCE:0
LAST-MODIFIED:20180802T134951Z
SUMMARY:CMP-SM
LOCATION:Lecture Room D
PRIORITY:3
TRANSP:0
END:VEVENT
END:VCALENDAR
