BEGIN:VCALENDAR
PRODID:-//AT Content Types//AT Event//EN
VERSION:2.0
METHOD:PUBLISH
BEGIN:VEVENT
DTSTAMP:20260419T203557Z
CREATED:20180802T134951Z
UID:ATEvent-1fe0a9b47b6c460bb17e42b4d1dca405
LAST-MODIFIED:20180802T134951Z
SUMMARY:CMP-SM
DTSTART:20181031T100000Z
DTEND:20181031T113000Z
LOCATION:Lecture Room D
CONTACT:A. Silva
URL:https://diploma-clear.ictp.it/courses/weekly-schedule/lecture-room-d/lecture.2018-08-02.7914287694
CLASS:PUBLIC
END:VEVENT
END:VCALENDAR
