BEGIN:VCALENDAR
PRODID:-//AT Content Types//AT Event//EN
VERSION:1.0
BEGIN:VEVENT
DTSTART:20180914T090000Z
DTEND:20180914T103000Z
DCREATED:20180802T134949Z
UID:ATEvent-6974c6627f274aaeb96eee4bae768865
SEQUENCE:0
LAST-MODIFIED:20180802T134949Z
SUMMARY:CMP-SM
LOCATION:Lecture Room D
PRIORITY:3
TRANSP:0
END:VEVENT
END:VCALENDAR
