BEGIN:VCALENDAR
PRODID:-//AT Content Types//AT Event//EN
VERSION:2.0
METHOD:PUBLISH
BEGIN:VEVENT
DTSTAMP:20260421T105604Z
CREATED:20180802T140324Z
UID:ATEvent-125fa29b46c245d69a7c8fa882adb0e0
LAST-MODIFIED:20180802T140324Z
SUMMARY:CMP-ST
DTSTART:20181109T130000Z
DTEND:20181109T143000Z
LOCATION:Lecture Room D
CONTACT:N. Seriani\, N. Ansari
URL:https://diploma-clear.ictp.it/courses/weekly-schedule/lecture-room-d/lecture.2018-08-02.6046302488
CLASS:PUBLIC
END:VEVENT
END:VCALENDAR
